BEGIN:VCALENDAR
VERSION:2.0
PRODID:icalendar-ruby
CALSCALE:GREGORIAN
METHOD:PUBLISH
BEGIN:VEVENT
DTSTAMP:20260421T164450Z
UID:7-268590@3bfellowship.org
DTSTART:20260807T020000Z
DTEND:20260807T030000Z
CLASS:PUBLIC
CREATED:20260421T080746
DESCRIPTION:Thursdays\nFacilitators: Terry\, John\, Steve O and Randy. (Alt
 ernate Facilitator-Terry)\nApril 2\, 2026-Exodus 3-Terry\nApril 9\, 2026-E
 xodus 10-Randy\nApril 16\, 2026-Exodus 17-John\nApril 23\, 2026-3B Cup-No 
 IRON\nApril 30\, 2026-Exodus 31-Steve\nMay 7\, 2026-Exodus 38-Randy\nMay 1
 4\, 2026-Acts 4-John\nMay 21\, 2026-Acts 11-Sean\nMay 28\, 2026-Acts 18-Te
 rry\nJune 4\, 2026-Acts 25-Randy\nJune 11\, 2026-Esther 3-John (Include Si
 de B)\nJune 18\, 2026-Esther 10-Steve\nJune 25\, 2026-1st Thessalonians 5-
 Terry
LAST-MODIFIED:20260421T080746
LOCATION:Panera Bread 6665 Perimeter Loop Dr Dublin OH 43016
SUMMARY:Thursday Night IRON
URL;VALUE=URI:https://3bfellowship.org/events/thursday-night-iron/2026-08-0
 6
ATTACH;FILENAME=321I.jpg;FMTTYPE=image/jpeg:https://dq5pwpg1q8ru0.cloudfron
 t.net/2025/10/19/17/37/24/91be6e9a-4a03-4f2a-a575-02dfb73550ba/321I.jpg
END:VEVENT
END:VCALENDAR
